Workbook
Name EIA_alumnos: OFFSET(Resultados!$N$20,0,0,MAX(1,Resultados!$O$19),1)
Name EIA_apoyo: OFFSET(Resultados!$M$20,0,0,MAX(1,Resultados!$O$19),1)
Name EIA_desarrollo: OFFSET(Resultados!$L$20,0,0,MAX(1,Resultados!$O$19),1)
Name EIA_esperado: OFFSET(Resultados!$K$20,0,0,MAX(1,Resultados!$O$19),1)

Sheet Instrucciones
B2: Registro y gráfica de los Ejercicios Integradores del Aprendizaje (EIA)
B3: 4.° grado de Primaria · Fase 4 · Material gratuito de Planeaciones C&X
B5: Qué es este archivo
B6: Los EIA de la SEP se valoran con rúbricas: cada criterio de valoración recibe 0, 1, 2 o 3. Aquí capturas esas valoraciones y el archivo te calcula el nivel de cada alumno por campo formativo y te arma las gráficas del grupo.
B7: En 4.° grado son 26 criterios de valoración en dos ejercicios: EIA 1 «De allá vengo… De aquí soy» (14 criterios) y EIA 2 «La falta de agua, un problema que nos afecta a todos» (12 criterios).
B9: Cómo se usa
B10: 1. En la hoja Registro escribe los datos de tu escuela y tu grupo, y la lista de tus alumnos (hay lugar para 45).
B11: 2. Captura la valoración de cada criterio tal como la asignaste con la rúbrica: 0, 1, 2 o 3. El archivo no deja escribir otro número.
B12: 3. Junto al nombre de cada alumno aparecen solos sus puntos, su promedio y su nivel (verde, amarillo o rojo). Más a la derecha está su nivel en cada campo formativo. Si a un alumno le falta un criterio, la celda vacía se pinta de naranja.
B13: 4. En Resultados están las tablas. Cada gráfica tiene su propia hoja (Gráfica por campo, por alumno y por criterio) y se imprime a página completa. Para imprimir la lista del grupo con su nivel, usa la hoja Imprimir lista: sale en tamaño carta y sólo hasta el último alumno.
B15: Qué significa cada color
B16: Verde · Nivel esperado: promedio de 2.5 a 3. La mayoría de sus criterios están en 3 (Aprendizaje desarrollado).
... B24: Fuente de los criterios: Estructura de los Ejercicios Integradores del Aprendizaje 2026 y FRV de la SEP.

Sheet Registro
A1: REGISTRO DE RESULTADOS · EJERCICIOS INTEGRADORES DEL APRENDIZAJE (EIA)
A2: Fase 4 · 4.° grado de Primaria · Captura 0, 1, 2 o 3 en cada criterio, como lo asignaste con la rúbrica · Material gratuito de Planeaciones C&X
B3: Escuela: | K3: CCT:
B4: Docente: | K4: Grupo:
A6: N.° de lista | B6: Nombre del estudiante | C6: RESULTADO DEL ALUMNO | F6: EIA 1 · De allá vengo… De aquí soy | T6: EIA 2 · La falta de agua, un problema que nos afecta a todos | AG6: RESULTADOS (se calculan solos)
C7: Puntos (de 78) | D7: Promedio (0 a 3) | E7: Nivel | F7: Saberes y p. científico | G7: Saberes y p. científico | H7: Saberes y p. científico | I7: Saberes y p. científico | J7: Saberes y p. científico | K7: Ética, nat. y soc. | L7: Ética, nat. y soc. | M7: Ética, nat. y soc. | N7: Ética, nat. y soc. | O7: De lo humano y lo com. | P7: De lo humano y lo com. | Q7: Lenguajes | R7: Lenguajes | S7: Lenguajes | T7: Saberes y p. científico | U7: Saberes y p. científico | V7: Ética, nat. y soc. | W7: De lo humano y lo com. | X7: De lo humano y lo com. | Y7: De lo humano y lo com. | Z7: De lo humano y lo com. | AA7: Saberes y p. científico | AB7: Saberes y p. científico | AC7: Lenguajes | AD7: Lenguajes | AE7: Lenguajes | AG7: Lenguajes | AI7: Saberes y pensamiento científico | AK7: Ética, naturaleza y sociedades | AM7: De lo humano y lo comunitario | AO7: General (todos los campos)
F8: C1 · A1 | G8: C1 · A2 | H8: C1 · B1 | I8: C1 · B2 | J8: C1 · B3 | K8: C2 · A1 | L8: C2 · A2 | M8: C2 · A3 | N8: C2 · B1 | O8: C3 · A1 | P8: C3 · B1 | Q8: C4 · A1 | R8: C4 · A2 | S8: C4 · A3 | T8: C1 · A1 | U8: C1 · B1 | V8: C2 · A1 | W8: C3 · A1 | X8: C3 · B1 | Y8: C3 · C1 | Z8: C3 · C2 | AA8: C4 · A1 | AB8: C4 · B1 | AC8: C5 · A1 | AD8: C5 · A2 | AE8: C5 · A3 | AG8: Promedio | AH8: Nivel | AI8: Promedio | AJ8: Nivel | AK8: Promedio | AL8: Nivel | AM8: Promedio | AN8: Nivel | AO8: Promedio | AP8: Nivel
F9: Ordenación cronológica de los acontecimientos | G9: Descripción clara de los acontecimientos | H9: Interpretación de datos | I9: Explicación de la respuesta | J9: Presentación del resultado | K9: Identificación de permanencias con el paso del tiempo | L9: Identificación de cambios en el tiempo | M9: Argumentación de los cambios con el tiempo | N9: Organización y elementos en la estructura del croquis | O9: Identificación de relaciones de parentesco | P9: Reconocimiento de la pertenencia familiar y comunitaria | Q9: Descripción de la secuencia temporal | R9: Descripción detallada de los sucesos | S9: Representación de elementos visuales | T9: Identificación del uso del agua | U9: Explicación de las acciones que consumen más agua y provocan escasez | V9: Propuestas para el cuidado del agua | W9: Expresión de acciones de solidaridad | X9: Identificación de valores para promover el cuidado del agua | Y9: Identificación de valores | Z9: Argumentación sobre los valores para el cuidado del agua | AA9: Organización de información en una tabla de datos | AB9: Interpretación de datos y explicación de la respuesta correcta | AC9: Elaboración de una secuencia narrativa | AD9: Cohesión y coherencia | AE9: Participación de personajes en la narrativa
A10: =ROW()-9 -> 1 | C10: =IF(COUNT(F10:AE10)=0,"",SUM(F10:AE10)) | D10: =IF(C10="","",ROUND(AVERAGE(F10:AE10),2)) | E10: =IF(D10="","",IF(D10>=Resultados!$C$6,"Esperado",IF(D10>=Resultados!$C$7,"En desarrollo","Requiere apoyo"))) | AG10: =IF(COUNT(Q10,R10,S10,AC10,AD10,AE10)=0,"",ROUND(AVERAGE(Q10,R10,S10,AC10,AD10,AE10),2)) | AH10: =IF(AG10="","",IF(AG10>=Resultados!$C$6,"Esperado",IF(AG10>=Resultados!$C$7,"En desarrollo","Requiere apoyo"))) | AI10: =IF(COUNT(F10,G10,H10,I10,J10,T10,U10,AA10,AB10)=0,"",ROUND(AVERAGE(F10,G10,H10,I10,J10,T10,U10,AA10,AB10),2)) | AJ10: =IF(AI10="","",IF(AI10>=Resultados!$C$6,"Esperado",IF(AI10>=Resultados!$C$7,"En desarrollo","Requiere apoyo"))) | AK10: =IF(COUNT(K10,L10,M10,N10,V10)=0,"",ROUND(AVERAGE(K10,L10,M10,N10,V10),2)) | AL10: =IF(AK10="","",IF(AK10>=Resultados!$C$6,"Esperado",IF(AK10>=Resultados!$C$7,"En desarrollo","Requiere apoyo"))) | AM10: =IF(COUNT(O10,P10,W10,X10,Y10,Z10)=0,"",ROUND(AVERAGE(O10,P10,W10,X10,Y10,Z10),2)) | AN10: =IF(AM10="","",IF(AM10>=Resultados!$C$6,"Esperado",IF(AM10>=Resultados!$C$7,"En desarrollo","Requiere apoyo"))) | AO10: =IF(COUNT(F10:AE10)=0,"",ROUND(AVERAGE(F10:AE10),2)) | AP10: =IF(AO10="","",IF(AO10>=Resultados!$C$6,"Esperado",IF(AO10>=Resultados!$C$7,"En desarrollo","Requiere apoyo")))
A11: =ROW()-9 -> 2 | C11: =IF(COUNT(F11:AE11)=0,"",SUM(F11:AE11)) | D11: =IF(C11="","",ROUND(AVERAGE(F11:AE11),2)) | E11: =IF(D11="","",IF(D11>=Resultados!$C$6,"Esperado",IF(D11>=Resultados!$C$7,"En desarrollo","Requiere apoyo"))) | AG11: =IF(COUNT(Q11,R11,S11,AC11,AD11,AE11)=0,"",ROUND(AVERAGE(Q11,R11,S11,AC11,AD11,AE11),2)) | AH11: =IF(AG11="","",IF(AG11>=Resultados!$C$6,"Esperado",IF(AG11>=Resultados!$C$7,"En desarrollo","Requiere apoyo"))) | AI11: =IF(COUNT(F11,G11,H11,I11,J11,T11,U11,AA11,AB11)=0,"",ROUND(AVERAGE(F11,G11,H11,I11,J11,T11,U11,AA11,AB11),2)) | AJ11: =IF(AI11="","",IF(AI11>=Resultados!$C$6,"Esperado",IF(AI11>=Resultados!$C$7,"En desarrollo","Requiere apoyo"))) | AK11: =IF(COUNT(K11,L11,M11,N11,V11)=0,"",ROUND(AVERAGE(K11,L11,M11,N11,V11),2)) | AL11: =IF(AK11="","",IF(AK11>=Resultados!$C$6,"Esperado",IF(AK11>=Resultados!$C$7,"En desarrollo","Requiere apoyo"))) | AM11: =IF(COUNT(O11,P11,W11,X11,Y11,Z11)=0,"",ROUND(AVERAGE(O11,P11,W11,X11,Y11,Z11),2)) | AN11: =IF(AM11="","",IF(AM11>=Resultados!$C$6,"Esperado",IF(AM11>=Resultados!$C$7,"En desarrollo","Requiere apoyo"))) | AO11: =IF(COUNT(F11:AE11)=0,"",ROUND(AVERAGE(F11:AE11),2)) | AP11: =IF(AO11="","",IF(AO11>=Resultados!$C$6,"Esperado",IF(AO11>=Resultados!$C$7,"En desarrollo","Requiere apoyo")))
A12: =ROW()-9 -> 3 | C12: =IF(COUNT(F12:AE12)=0,"",SUM(F12:AE12)) | D12: =IF(C12="","",ROUND(AVERAGE(F12:AE12),2)) | E12: =IF(D12="","",IF(D12>=Resultados!$C$6,"Esperado",IF(D12>=Resultados!$C$7,"En desarrollo","Requiere apoyo"))) | AG12: =IF(COUNT(Q12,R12,S12,AC12,AD12,AE12)=0,"",ROUND(AVERAGE(Q12,R12,S12,AC12,AD12,AE12),2)) | AH12: =IF(AG12="","",IF(AG12>=Resultados!$C$6,"Esperado",IF(AG12>=Resultados!$C$7,"En desarrollo","Requiere apoyo"))) | AI12: =IF(COUNT(F12,G12,H12,I12,J12,T12,U12,AA12,AB12)=0,"",ROUND(AVERAGE(F12,G12,H12,I12,J12,T12,U12,AA12,AB12),2)) | AJ12: =IF(AI12="","",IF(AI12>=Resultados!$C$6,"Esperado",IF(AI12>=Resultados!$C$7,"En desarrollo","Requiere apoyo"))) | AK12: =IF(COUNT(K12,L12,M12,N12,V12)=0,"",ROUND(AVERAGE(K12,L12,M12,N12,V12),2)) | AL12: =IF(AK12="","",IF(AK12>=Resultados!$C$6,"Esperado",IF(AK12>=Resultados!$C$7,"En desarrollo","Requiere apoyo"))) | AM12: =IF(COUNT(O12,P12,W12,X12,Y12,Z12)=0,"",ROUND(AVERAGE(O12,P12,W12,X12,Y12,Z12),2)) | AN12: =IF(AM12="","",IF(AM12>=Resultados!$C$6,"Esperado",IF(AM12>=Resultados!$C$7,"En desarrollo","Requiere apoyo"))) | AO12: =IF(COUNT(F12:AE12)=0,"",ROUND(AVERAGE(F12:AE12),2)) | AP12: =IF(AO12="","",IF(AO12>=Resultados!$C$6,"Esperado",IF(AO12>=Resultados!$C$7,"En desarrollo","Requiere apoyo")))
A13: =ROW()-9 -> 4 | C13: =IF(COUNT(F13:AE13)=0,"",SUM(F13:AE13)) | D13: =IF(C13="","",ROUND(AVERAGE(F13:AE13),2)) | E13: =IF(D13="","",IF(D13>=Resultados!$C$6,"Esperado",IF(D13>=Resultados!$C$7,"En desarrollo","Requiere apoyo"))) | AG13: =IF(COUNT(Q13,R13,S13,AC13,AD13,AE13)=0,"",ROUND(AVERAGE(Q13,R13,S13,AC13,AD13,AE13),2)) | AH13: =IF(AG13="","",IF(AG13>=Resultados!$C$6,"Esperado",IF(AG13>=Resultados!$C$7,"En desarrollo","Requiere apoyo"))) | AI13: =IF(COUNT(F13,G13,H13,I13,J13,T13,U13,AA13,AB13)=0,"",ROUND(AVERAGE(F13,G13,H13,I13,J13,T13,U13,AA13,AB13),2)) | AJ13: =IF(AI13="","",IF(AI13>=Resultados!$C$6,"Esperado",IF(AI13>=Resultados!$C$7,"En desarrollo","Requiere apoyo"))) | AK13: =IF(COUNT(K13,L13,M13,N13,V13)=0,"",ROUND(AVERAGE(K13,L13,M13,N13,V13),2)) | AL13: =IF(AK13="","",IF(AK13>=Resultados!$C$6,"Esperado",IF(AK13>=Resultados!$C$7,"En desarrollo","Requiere apoyo"))) | AM13: =IF(COUNT(O13,P13,W13,X13,Y13,Z13)=0,"",ROUND(AVERAGE(O13,P13,W13,X13,Y13,Z13),2)) | AN13: =IF(AM13="","",IF(AM13>=Resultados!$C$6,"Esperado",IF(AM13>=Resultados!$C$7,"En desarrollo","Requiere apoyo"))) | AO13: =IF(COUNT(F13:AE13)=0,"",ROUND(AVERAGE(F13:AE13),2)) | AP13: =IF(AO13="","",IF(AO13>=Resultados!$C$6,"Esperado",IF(AO13>=Resultados!$C$7,"En desarrollo","Requiere apoyo")))
A14: =ROW()-9 -> 5 | C14: =IF(COUNT(F14:AE14)=0,"",SUM(F14:AE14)) | D14: =IF(C14="","",ROUND(AVERAGE(F14:AE14),2)) | E14: =IF(D14="","",IF(D14>=Resultados!$C$6,"Esperado",IF(D14>=Resultados!$C$7,"En desarrollo","Requiere apoyo"))) | AG14: =IF(COUNT(Q14,R14,S14,AC14,AD14,AE14)=0,"",ROUND(AVERAGE(Q14,R14,S14,AC14,AD14,AE14),2)) | AH14: =IF(AG14="","",IF(AG14>=Resultados!$C$6,"Esperado",IF(AG14>=Resultados!$C$7,"En desarrollo","Requiere apoyo"))) | AI14: =IF(COUNT(F14,G14,H14,I14,J14,T14,U14,AA14,AB14)=0,"",ROUND(AVERAGE(F14,G14,H14,I14,J14,T14,U14,AA14,AB14),2)) | AJ14: =IF(AI14="","",IF(AI14>=Resultados!$C$6,"Esperado",IF(AI14>=Resultados!$C$7,"En desarrollo","Requiere apoyo"))) | AK14: =IF(COUNT(K14,L14,M14,N14,V14)=0,"",ROUND(AVERAGE(K14,L14,M14,N14,V14),2)) | AL14: =IF(AK14="","",IF(AK14>=Resultados!$C$6,"Esperado",IF(AK14>=Resultados!$C$7,"En desarrollo","Requiere apoyo"))) | AM14: =IF(COUNT(O14,P14,W14,X14,Y14,Z14)=0,"",ROUND(AVERAGE(O14,P14,W14,X14,Y14,Z14),2)) | AN14: =IF(AM14="","",IF(AM14>=Resultados!$C$6,"Esperado",IF(AM14>=Resultados!$C$7,"En desarrollo","Requiere apoyo"))) | AO14: =IF(COUNT(F14:AE14)=0,"",ROUND(AVERAGE(F14:AE14),2)) | AP14: =IF(AO14="","",IF(AO14>=Resultados!$C$6,"Esperado",IF(AO14>=Resultados!$C$7,"En desarrollo","Requiere apoyo")))
A15: =ROW()-9 -> 6 | C15: =IF(COUNT(F15:AE15)=0,"",SUM(F15:AE15)) | D15: =IF(C15="","",ROUND(AVERAGE(F15:AE15),2)) | E15: =IF(D15="","",IF(D15>=Resultados!$C$6,"Esperado",IF(D15>=Resultados!$C$7,"En desarrollo","Requiere apoyo"))) | AG15: =IF(COUNT(Q15,R15,S15,AC15,AD15,AE15)=0,"",ROUND(AVERAGE(Q15,R15,S15,AC15,AD15,AE15),2)) | AH15: =IF(AG15="","",IF(AG15>=Resultados!$C$6,"Esperado",IF(AG15>=Resultados!$C$7,"En desarrollo","Requiere apoyo"))) | AI15: =IF(COUNT(F15,G15,H15,I15,J15,T15,U15,AA15,AB15)=0,"",ROUND(AVERAGE(F15,G15,H15,I15,J15,T15,U15,AA15,AB15),2)) | AJ15: =IF(AI15="","",IF(AI15>=Resultados!$C$6,"Esperado",IF(AI15>=Resultados!$C$7,"En desarrollo","Requiere apoyo"))) | AK15: =IF(COUNT(K15,L15,M15,N15,V15)=0,"",ROUND(AVERAGE(K15,L15,M15,N15,V15),2)) | AL15: =IF(AK15="","",IF(AK15>=Resultados!$C$6,"Esperado",IF(AK15>=Resultados!$C$7,"En desarrollo","Requiere apoyo"))) | AM15: =IF(COUNT(O15,P15,W15,X15,Y15,Z15)=0,"",ROUND(AVERAGE(O15,P15,W15,X15,Y15,Z15),2)) | AN15: =IF(AM15="","",IF(AM15>=Resultados!$C$6,"Esperado",IF(AM15>=Resultados!$C$7,"En desarrollo","Requiere apoyo"))) | AO15: =IF(COUNT(F15:AE15)=0,"",ROUND(AVERAGE(F15:AE15),2)) | AP15: =IF(AO15="","",IF(AO15>=Resultados!$C$6,"Esperado",IF(AO15>=Resultados!$C$7,"En desarrollo","Requiere apoyo")))
A16: =ROW()-9 -> 7 | C16: =IF(COUNT(F16:AE16)=0,"",SUM(F16:AE16)) | D16: =IF(C16="","",ROUND(AVERAGE(F16:AE16),2)) | E16: =IF(D16="","",IF(D16>=Resultados!$C$6,"Esperado",IF(D16>=Resultados!$C$7,"En desarrollo","Requiere apoyo"))) | AG16: =IF(COUNT(Q16,R16,S16,AC16,AD16,AE16)=0,"",ROUND(AVERAGE(Q16,R16,S16,AC16,AD16,AE16),2)) | AH16: =IF(AG16="","",IF(AG16>=Resultados!$C$6,"Esperado",IF(AG16>=Resultados!$C$7,"En desarrollo","Requiere apoyo"))) | AI16: =IF(COUNT(F16,G16,H16,I16,J16,T16,U16,AA16,AB16)=0,"",ROUND(AVERAGE(F16,G16,H16,I16,J16,T16,U16,AA16,AB16),2)) | AJ16: =IF(AI16="","",IF(AI16>=Resultados!$C$6,"Esperado",IF(AI16>=Resultados!$C$7,"En desarrollo","Requiere apoyo"))) | AK16: =IF(COUNT(K16,L16,M16,N16,V16)=0,"",ROUND(AVERAGE(K16,L16,M16,N16,V16),2)) | AL16: =IF(AK16="","",IF(AK16>=Resultados!$C$6,"Esperado",IF(AK16>=Resultados!$C$7,"En desarrollo","Requiere apoyo"))) | AM16: =IF(COUNT(O16,P16,W16,X16,Y16,Z16)=0,"",ROUND(AVERAGE(O16,P16,W16,X16,Y16,Z16),2)) | AN16: =IF(AM16="","",IF(AM16>=Resultados!$C$6,"Esperado",IF(AM16>=Resultados!$C$7,"En desarrollo","Requiere apoyo"))) | AO16: =IF(COUNT(F16:AE16)=0,"",ROUND(AVERAGE(F16:AE16),2)) | AP16: =IF(AO16="","",IF(AO16>=Resultados!$C$6,"Esperado",IF(AO16>=Resultados!$C$7,"En desarrollo","Requiere apoyo")))
A17: =ROW()-9 -> 8 | C17: =IF(COUNT(F17:AE17)=0,"",SUM(F17:AE17)) | D17: =IF(C17="","",ROUND(AVERAGE(F17:AE17),2)) | E17: =IF(D17="","",IF(D17>=Resultados!$C$6,"Esperado",IF(D17>=Resultados!$C$7,"En desarrollo","Requiere apoyo"))) | AG17: =IF(COUNT(Q17,R17,S17,AC17,AD17,AE17)=0,"",ROUND(AVERAGE(Q17,R17,S17,AC17,AD17,AE17),2)) | AH17: =IF(AG17="","",IF(AG17>=Resultados!$C$6,"Esperado",IF(AG17>=Resultados!$C$7,"En desarrollo","Requiere apoyo"))) | AI17: =IF(COUNT(F17,G17,H17,I17,J17,T17,U17,AA17,AB17)=0,"",ROUND(AVERAGE(F17,G17,H17,I17,J17,T17,U17,AA17,AB17),2)) | AJ17: =IF(AI17="","",IF(AI17>=Resultados!$C$6,"Esperado",IF(AI17>=Resultados!$C$7,"En desarrollo","Requiere apoyo"))) | AK17: =IF(COUNT(K17,L17,M17,N17,V17)=0,"",ROUND(AVERAGE(K17,L17,M17,N17,V17),2)) | AL17: =IF(AK17="","",IF(AK17>=Resultados!$C$6,"Esperado",IF(AK17>=Resultados!$C$7,"En desarrollo","Requiere apoyo"))) | AM17: =IF(COUNT(O17,P17,W17,X17,Y17,Z17)=0,"",ROUND(AVERAGE(O17,P17,W17,X17,Y17,Z17),2)) | AN17: =IF(AM17="","",IF(AM17>=Resultados!$C$6,"Esperado",IF(AM17>=Resultados!$C$7,"En desarrollo","Requiere apoyo"))) | AO17: =IF(COUNT(F17:AE17)=0,"",ROUND(AVERAGE(F17:AE17),2)) | AP17: =IF(AO17="","",IF(AO17>=Resultados!$C$6,"Esperado",IF(AO17>=Resultados!$C$7,"En desarrollo","Requiere apoyo")))
A18: =ROW()-9 -> 9 | C18: =IF(COUNT(F18:AE18)=0,"",SUM(F18:AE18)) | D18: =IF(C18="","",ROUND(AVERAGE(F18:AE18),2)) | E18: =IF(D18="","",IF(D18>=Resultados!$C$6,"Esperado",IF(D18>=Resultados!$C$7,"En desarrollo","Requiere apoyo"))) | AG18: =IF(COUNT(Q18,R18,S18,AC18,AD18,AE18)=0,"",ROUND(AVERAGE(Q18,R18,S18,AC18,AD18,AE18),2)) | AH18: =IF(AG18="","",IF(AG18>=Resultados!$C$6,"Esperado",IF(AG18>=Resultados!$C$7,"En desarrollo","Requiere apoyo"))) | AI18: =IF(COUNT(F18,G18,H18,I18,J18,T18,U18,AA18,AB18)=0,"",ROUND(AVERAGE(F18,G18,H18,I18,J18,T18,U18,AA18,AB18),2)) | AJ18: =IF(AI18="","",IF(AI18>=Resultados!$C$6,"Esperado",IF(AI18>=Resultados!$C$7,"En desarrollo","Requiere apoyo"))) | AK18: =IF(COUNT(K18,L18,M18,N18,V18)=0,"",ROUND(AVERAGE(K18,L18,M18,N18,V18),2)) | AL18: =IF(AK18="","",IF(AK18>=Resultados!$C$6,"Esperado",IF(AK18>=Resultados!$C$7,"En desarrollo","Requiere apoyo"))) | AM18: =IF(COUNT(O18,P18,W18,X18,Y18,Z18)=0,"",ROUND(AVERAGE(O18,P18,W18,X18,Y18,Z18),2)) | AN18: =IF(AM18="","",IF(AM18>=Resultados!$C$6,"Esperado",IF(AM18>=Resultados!$C$7,"En desarrollo","Requiere apoyo"))) | AO18: =IF(COUNT(F18:AE18)=0,"",ROUND(AVERAGE(F18:AE18),2)) | AP18: =IF(AO18="","",IF(AO18>=Resultados!$C$6,"Esperado",IF(AO18>=Resultados!$C$7,"En desarrollo","Requiere apoyo")))
A19: =ROW()-9 -> 10 | C19: =IF(COUNT(F19:AE19)=0,"",SUM(F19:AE19)) | D19: =IF(C19="","",ROUND(AVERAGE(F19:AE19),2)) | E19: =IF(D19="","",IF(D19>=Resultados!$C$6,"Esperado",IF(D19>=Resultados!$C$7,"En desarrollo","Requiere apoyo"))) | AG19: =IF(COUNT(Q19,R19,S19,AC19,AD19,AE19)=0,"",ROUND(AVERAGE(Q19,R19,S19,AC19,AD19,AE19),2)) | AH19: =IF(AG19="","",IF(AG19>=Resultados!$C$6,"Esperado",IF(AG19>=Resultados!$C$7,"En desarrollo","Requiere apoyo"))) | AI19: =IF(COUNT(F19,G19,H19,I19,J19,T19,U19,AA19,AB19)=0,"",ROUND(AVERAGE(F19,G19,H19,I19,J19,T19,U19,AA19,AB19),2)) | AJ19: =IF(AI19="","",IF(AI19>=Resultados!$C$6,"Esperado",IF(AI19>=Resultados!$C$7,"En desarrollo","Requiere apoyo"))) | AK19: =IF(COUNT(K19,L19,M19,N19,V19)=0,"",ROUND(AVERAGE(K19,L19,M19,N19,V19),2)) | AL19: =IF(AK19="","",IF(AK19>=Resultados!$C$6,"Esperado",IF(AK19>=Resultados!$C$7,"En desarrollo","Requiere apoyo"))) | AM19: =IF(COUNT(O19,P19,W19,X19,Y19,Z19)=0,"",ROUND(AVERAGE(O19,P19,W19,X19,Y19,Z19),2)) | AN19: =IF(AM19="","",IF(AM19>=Resultados!$C$6,"Esperado",IF(AM19>=Resultados!$C$7,"En desarrollo","Requiere apoyo"))) | AO19: =IF(COUNT(F19:AE19)=0,"",ROUND(AVERAGE(F19:AE19),2)) | AP19: =IF(AO19="","",IF(AO19>=Resultados!$C$6,"Esperado",IF(AO19>=Resultados!$C$7,"En desarrollo","Requiere apoyo")))
A20: =ROW()-9 -> 11 | C20: =IF(COUNT(F20:AE20)=0,"",SUM(F20:AE20)) | D20: =IF(C20="","",ROUND(AVERAGE(F20:AE20),2)) | E20: =IF(D20="","",IF(D20>=Resultados!$C$6,"Esperado",IF(D20>=Resultados!$C$7,"En desarrollo","Requiere apoyo"))) | AG20: =IF(COUNT(Q20,R20,S20,AC20,AD20,AE20)=0,"",ROUND(AVERAGE(Q20,R20,S20,AC20,AD20,AE20),2)) | AH20: =IF(AG20="","",IF(AG20>=Resultados!$C$6,"Esperado",IF(AG20>=Resultados!$C$7,"En desarrollo","Requiere apoyo"))) | AI20: =IF(COUNT(F20,G20,H20,I20,J20,T20,U20,AA20,AB20)=0,"",ROUND(AVERAGE(F20,G20,H20,I20,J20,T20,U20,AA20,AB20),2)) | AJ20: =IF(AI20="","",IF(AI20>=Resultados!$C$6,"Esperado",IF(AI20>=Resultados!$C$7,"En desarrollo","Requiere apoyo"))) | AK20: =IF(COUNT(K20,L20,M20,N20,V20)=0,"",ROUND(AVERAGE(K20,L20,M20,N20,V20),2)) | AL20: =IF(AK20="","",IF(AK20>=Resultados!$C$6,"Esperado",IF(AK20>=Resultados!$C$7,"En desarrollo","Requiere apoyo"))) | AM20: =IF(COUNT(O20,P20,W20,X20,Y20,Z20)=0,"",ROUND(AVERAGE(O20,P20,W20,X20,Y20,Z20),2)) | AN20: =IF(AM20="","",IF(AM20>=Resultados!$C$6,"Esperado",IF(AM20>=Resultados!$C$7,"En desarrollo","Requiere apoyo"))) | AO20: =IF(COUNT(F20:AE20)=0,"",ROUND(AVERAGE(F20:AE20),2)) | AP20: =IF(AO20="","",IF(AO20>=Resultados!$C$6,"Esperado",IF(AO20>=Resultados!$C$7,"En desarrollo","Requiere apoyo")))
A21: =ROW()-9 -> 12 | C21: =IF(COUNT(F21:AE21)=0,"",SUM(F21:AE21)) | D21: =IF(C21="","",ROUND(AVERAGE(F21:AE21),2)) | E21: =IF(D21="","",IF(D21>=Resultados!$C$6,"Esperado",IF(D21>=Resultados!$C$7,"En desarrollo","Requiere apoyo"))) | AG21: =IF(COUNT(Q21,R21,S21,AC21,AD21,AE21)=0,"",ROUND(AVERAGE(Q21,R21,S21,AC21,AD21,AE21),2)) | AH21: =IF(AG21="","",IF(AG21>=Resultados!$C$6,"Esperado",IF(AG21>=Resultados!$C$7,"En desarrollo","Requiere apoyo"))) | AI21: =IF(COUNT(F21,G21,H21,I21,J21,T21,U21,AA21,AB21)=0,"",ROUND(AVERAGE(F21,G21,H21,I21,J21,T21,U21,AA21,AB21),2)) | AJ21: =IF(AI21="","",IF(AI21>=Resultados!$C$6,"Esperado",IF(AI21>=Resultados!$C$7,"En desarrollo","Requiere apoyo"))) | AK21: =IF(COUNT(K21,L21,M21,N21,V21)=0,"",ROUND(AVERAGE(K21,L21,M21,N21,V21),2)) | AL21: =IF(AK21="","",IF(AK21>=Resultados!$C$6,"Esperado",IF(AK21>=Resultados!$C$7,"En desarrollo","Requiere apoyo"))) | AM21: =IF(COUNT(O21,P21,W21,X21,Y21,Z21)=0,"",ROUND(AVERAGE(O21,P21,W21,X21,Y21,Z21),2)) | AN21: =IF(AM21="","",IF(AM21>=Resultados!$C$6,"Esperado",IF(AM21>=Resultados!$C$7,"En desarrollo","Requiere apoyo"))) | AO21: =IF(COUNT(F21:AE21)=0,"",ROUND(AVERAGE(F21:AE21),2)) | AP21: =IF(AO21="","",IF(AO21>=Resultados!$C$6,"Esperado",IF(AO21>=Resultados!$C$7,"En desarrollo","Requiere apoyo")))
... A54: =ROW()-9 -> 45 | C54: =IF(COUNT(F54:AE54)=0,"",SUM(F54:AE54)) | D54: =IF(C54="","",ROUND(AVERAGE(F54:AE54),2)) | E54: =IF(D54="","",IF(D54>=Resultados!$C$6,"Esperado",IF(D54>=Resultados!$C$7,"En desarrollo","Requiere apoyo"))) | AG54: =IF(COUNT(Q54,R54,S54,AC54,AD54,AE54)=0,"",ROUND(AVERAGE(Q54,R54,S54,AC54,AD54,AE54),2)) | AH54: =IF(AG54="","",IF(AG54>=Resultados!$C$6,"Esperado",IF(AG54>=Resultados!$C$7,"En desarrollo","Requiere apoyo"))) | AI54: =IF(COUNT(F54,G54,H54,I54,J54,T54,U54,AA54,AB54)=0,"",ROUND(AVERAGE(F54,G54,H54,I54,J54,T54,U54,AA54,AB54),2)) | AJ54: =IF(AI54="","",IF(AI54>=Resultados!$C$6,"Esperado",IF(AI54>=Resultados!$C$7,"En desarrollo","Requiere apoyo"))) | AK54: =IF(COUNT(K54,L54,M54,N54,V54)=0,"",ROUND(AVERAGE(K54,L54,M54,N54,V54),2)) | AL54: =IF(AK54="","",IF(AK54>=Resultados!$C$6,"Esperado",IF(AK54>=Resultados!$C$7,"En desarrollo","Requiere apoyo"))) | AM54: =IF(COUNT(O54,P54,W54,X54,Y54,Z54)=0,"",ROUND(AVERAGE(O54,P54,W54,X54,Y54,Z54),2)) | AN54: =IF(AM54="","",IF(AM54>=Resultados!$C$6,"Esperado",IF(AM54>=Resultados!$C$7,"En desarrollo","Requiere apoyo"))) | AO54: =IF(COUNT(F54:AE54)=0,"",ROUND(AVERAGE(F54:AE54),2)) | AP54: =IF(AO54="","",IF(AO54>=Resultados!$C$6,"Esperado",IF(AO54>=Resultados!$C$7,"En desarrollo","Requiere apoyo")))

Sheet Imprimir lista
A1: RESULTADOS DE LOS EIA · 4.° GRADO DE PRIMARIA | K1: =IFERROR(LOOKUP(2,1/((Registro!B10:B54<>"")+(Registro!C10:C54<>"")),ROW(Registro!B10:B54)-9),0) -> 0
A2: ="Escuela: "&IF(Registro!C3="","____________________",Registro!C3)&" CCT: "&IF(Registro!M3="","__________",Registro!M3)&" Grupo: "&IF(Registro!M4="","_____",Registro!M4) -> Escuela: ____________________ CCT: __________ Grupo: _____
A3: ="Docente: "&IF(Registro!C4="","______________________________",Registro!C4) -> Docente: ______________________________
A4: ="Verde: nivel esperado (promedio de "&TEXT(Resultados!C6,"0.0#")&" a 3) · Amarillo: en desarrollo (de "&TEXT(Resultados!C7,"0.0#")&") · Rojo: requiere apoyo (menos de "&TEXT(Resultados!C7,"0.0#")&")" -> Verde: nivel esperado (promedio de 2.5 a 3) · Amarillo: en desarrollo (de 1.5) · Rojo: requiere apoyo (menos de 1.5)
A5: N.° | B5: Nombre del estudiante | C5: Puntos (de 78) | D5: Promedio (0 a 3) | E5: Nivel general | F5: Lenguajes | G5: Saberes y p. científico | H5: Ética, nat. y soc. | I5: De lo humano y lo com.
A6: =IF(AND(Registro!B10="",Registro!C10=""),"",Registro!A10) | B6: =IF(Registro!B10="",IF(Registro!C10="","","(sin nombre)"),Registro!B10) | C6: =IF(Registro!C10="","",Registro!C10) | D6: =IF(Registro!C10="","",Registro!D10) | E6: =IF(Registro!E10="","",Registro!E10) | F6: =IF(Registro!AH10="","",Registro!AH10) | G6: =IF(Registro!AJ10="","",Registro!AJ10) | H6: =IF(Registro!AL10="","",Registro!AL10) | I6: =IF(Registro!AN10="","",Registro!AN10)
A7: =IF(AND(Registro!B11="",Registro!C11=""),"",Registro!A11) | B7: =IF(Registro!B11="",IF(Registro!C11="","","(sin nombre)"),Registro!B11) | C7: =IF(Registro!C11="","",Registro!C11) | D7: =IF(Registro!C11="","",Registro!D11) | E7: =IF(Registro!E11="","",Registro!E11) | F7: =IF(Registro!AH11="","",Registro!AH11) | G7: =IF(Registro!AJ11="","",Registro!AJ11) | H7: =IF(Registro!AL11="","",Registro!AL11) | I7: =IF(Registro!AN11="","",Registro!AN11)
A8: =IF(AND(Registro!B12="",Registro!C12=""),"",Registro!A12) | B8: =IF(Registro!B12="",IF(Registro!C12="","","(sin nombre)"),Registro!B12) | C8: =IF(Registro!C12="","",Registro!C12) | D8: =IF(Registro!C12="","",Registro!D12) | E8: =IF(Registro!E12="","",Registro!E12) | F8: =IF(Registro!AH12="","",Registro!AH12) | G8: =IF(Registro!AJ12="","",Registro!AJ12) | H8: =IF(Registro!AL12="","",Registro!AL12) | I8: =IF(Registro!AN12="","",Registro!AN12)
A9: =IF(AND(Registro!B13="",Registro!C13=""),"",Registro!A13) | B9: =IF(Registro!B13="",IF(Registro!C13="","","(sin nombre)"),Registro!B13) | C9: =IF(Registro!C13="","",Registro!C13) | D9: =IF(Registro!C13="","",Registro!D13) | E9: =IF(Registro!E13="","",Registro!E13) | F9: =IF(Registro!AH13="","",Registro!AH13) | G9: =IF(Registro!AJ13="","",Registro!AJ13) | H9: =IF(Registro!AL13="","",Registro!AL13) | I9: =IF(Registro!AN13="","",Registro!AN13)
A10: =IF(AND(Registro!B14="",Registro!C14=""),"",Registro!A14) | B10: =IF(Registro!B14="",IF(Registro!C14="","","(sin nombre)"),Registro!B14) | C10: =IF(Registro!C14="","",Registro!C14) | D10: =IF(Registro!C14="","",Registro!D14) | E10: =IF(Registro!E14="","",Registro!E14) | F10: =IF(Registro!AH14="","",Registro!AH14) | G10: =IF(Registro!AJ14="","",Registro!AJ14) | H10: =IF(Registro!AL14="","",Registro!AL14) | I10: =IF(Registro!AN14="","",Registro!AN14)
A11: =IF(AND(Registro!B15="",Registro!C15=""),"",Registro!A15) | B11: =IF(Registro!B15="",IF(Registro!C15="","","(sin nombre)"),Registro!B15) | C11: =IF(Registro!C15="","",Registro!C15) | D11: =IF(Registro!C15="","",Registro!D15) | E11: =IF(Registro!E15="","",Registro!E15) | F11: =IF(Registro!AH15="","",Registro!AH15) | G11: =IF(Registro!AJ15="","",Registro!AJ15) | H11: =IF(Registro!AL15="","",Registro!AL15) | I11: =IF(Registro!AN15="","",Registro!AN15)
A12: =IF(AND(Registro!B16="",Registro!C16=""),"",Registro!A16) | B12: =IF(Registro!B16="",IF(Registro!C16="","","(sin nombre)"),Registro!B16) | C12: =IF(Registro!C16="","",Registro!C16) | D12: =IF(Registro!C16="","",Registro!D16) | E12: =IF(Registro!E16="","",Registro!E16) | F12: =IF(Registro!AH16="","",Registro!AH16) | G12: =IF(Registro!AJ16="","",Registro!AJ16) | H12: =IF(Registro!AL16="","",Registro!AL16) | I12: =IF(Registro!AN16="","",Registro!AN16)
A13: =IF(AND(Registro!B17="",Registro!C17=""),"",Registro!A17) | B13: =IF(Registro!B17="",IF(Registro!C17="","","(sin nombre)"),Registro!B17) | C13: =IF(Registro!C17="","",Registro!C17) | D13: =IF(Registro!C17="","",Registro!D17) | E13: =IF(Registro!E17="","",Registro!E17) | F13: =IF(Registro!AH17="","",Registro!AH17) | G13: =IF(Registro!AJ17="","",Registro!AJ17) | H13: =IF(Registro!AL17="","",Registro!AL17) | I13: =IF(Registro!AN17="","",Registro!AN17)
A14: =IF(AND(Registro!B18="",Registro!C18=""),"",Registro!A18) | B14: =IF(Registro!B18="",IF(Registro!C18="","","(sin nombre)"),Registro!B18) | C14: =IF(Registro!C18="","",Registro!C18) | D14: =IF(Registro!C18="","",Registro!D18) | E14: =IF(Registro!E18="","",Registro!E18) | F14: =IF(Registro!AH18="","",Registro!AH18) | G14: =IF(Registro!AJ18="","",Registro!AJ18) | H14: =IF(Registro!AL18="","",Registro!AL18) | I14: =IF(Registro!AN18="","",Registro!AN18)
A15: =IF(AND(Registro!B19="",Registro!C19=""),"",Registro!A19) | B15: =IF(Registro!B19="",IF(Registro!C19="","","(sin nombre)"),Registro!B19) | C15: =IF(Registro!C19="","",Registro!C19) | D15: =IF(Registro!C19="","",Registro!D19) | E15: =IF(Registro!E19="","",Registro!E19) | F15: =IF(Registro!AH19="","",Registro!AH19) | G15: =IF(Registro!AJ19="","",Registro!AJ19) | H15: =IF(Registro!AL19="","",Registro!AL19) | I15: =IF(Registro!AN19="","",Registro!AN19)
A16: =IF(AND(Registro!B20="",Registro!C20=""),"",Registro!A20) | B16: =IF(Registro!B20="",IF(Registro!C20="","","(sin nombre)"),Registro!B20) | C16: =IF(Registro!C20="","",Registro!C20) | D16: =IF(Registro!C20="","",Registro!D20) | E16: =IF(Registro!E20="","",Registro!E20) | F16: =IF(Registro!AH20="","",Registro!AH20) | G16: =IF(Registro!AJ20="","",Registro!AJ20) | H16: =IF(Registro!AL20="","",Registro!AL20) | I16: =IF(Registro!AN20="","",Registro!AN20)
A17: =IF(AND(Registro!B21="",Registro!C21=""),"",Registro!A21) | B17: =IF(Registro!B21="",IF(Registro!C21="","","(sin nombre)"),Registro!B21) | C17: =IF(Registro!C21="","",Registro!C21) | D17: =IF(Registro!C21="","",Registro!D21) | E17: =IF(Registro!E21="","",Registro!E21) | F17: =IF(Registro!AH21="","",Registro!AH21) | G17: =IF(Registro!AJ21="","",Registro!AJ21) | H17: =IF(Registro!AL21="","",Registro!AL21) | I17: =IF(Registro!AN21="","",Registro!AN21)
... A50: =IF(AND(Registro!B54="",Registro!C54=""),"",Registro!A54) | B50: =IF(Registro!B54="",IF(Registro!C54="","","(sin nombre)"),Registro!B54) | C50: =IF(Registro!C54="","",Registro!C54) | D50: =IF(Registro!C54="","",Registro!D54) | E50: =IF(Registro!E54="","",Registro!E54) | F50: =IF(Registro!AH54="","",Registro!AH54) | G50: =IF(Registro!AJ54="","",Registro!AJ54) | H50: =IF(Registro!AL54="","",Registro!AL54) | I50: =IF(Registro!AN54="","",Registro!AN54)

Sheet Resultados
B1: RESULTADOS DEL GRUPO · EJERCICIOS INTEGRADORES DEL APRENDIZAJE · 4.° GRADO
B2: ="Escuela: "&IF(Registro!C3="","________",Registro!C3)&" · CCT: "&IF(Registro!M3="","________",Registro!M3)&" · Grupo: "&IF(Registro!M4="","____",Registro!M4)&" · Docente: "&IF(Registro!C4="","________",Registro!C4) -> Escuela: ________ · CCT: ________ · Grupo: ____ · Docente: ________
B4: ¿Cómo se decide el nivel? (promedio de las valoraciones de 0 a 3)
B5: Nivel | C5: Desde | D5: Qué significa
B6: Nivel esperado | C6: 2.5 | D6: ="Promedio de "&TEXT(C6,"0.0#")&" a 3 · la mayoría de sus criterios en 3 (Aprendizaje desarrollado)" -> Promedio de 2.5 a 3 · la mayoría de sus criterios en 3 (Aprendizaje desarrollado)
B7: En desarrollo | C7: 1.5 | D7: ="Promedio de "&TEXT(C7,"0.0#")&" a menos de "&TEXT(C6,"0.0#")&" · sobre todo en 2 (En proceso de desarrollo)" -> Promedio de 1.5 a menos de 2.5 · sobre todo en 2 (En proceso de desarrollo)
B8: Requiere apoyo | C8: 0 | D8: ="Promedio menor a "&TEXT(C7,"0.0#")&" · sobre todo en 1 o 0 (Requiere apoyo / Sin evidencias)" -> Promedio menor a 1.5 · sobre todo en 1 o 0 (Requiere apoyo / Sin evidencias)
B9: Puedes cambiar los límites en las celdas amarillas de la columna Desde.
B11: Campo formativo | C11: Nivel esperado | D11: En desarrollo | E11: Requiere apoyo | F11: Alumnos evaluados | G11: % esperado | H11: % en desarrollo | I11: % requiere apoyo
B12: Lenguajes | C12: =COUNTIF(Registro!$AH$10:$AH$54,"Esperado") -> 0 | D12: =COUNTIF(Registro!$AH$10:$AH$54,"En desarrollo") -> 0 | E12: =COUNTIF(Registro!$AH$10:$AH$54,"Requiere apoyo") -> 0 | F12: =SUM(C12:E12) -> 0 | G12: =IF($F12=0,"",C12/$F12) | H12: =IF($F12=0,"",D12/$F12) | I12: =IF($F12=0,"",E12/$F12)
B13: Saberes y pensamiento científico | C13: =COUNTIF(Registro!$AJ$10:$AJ$54,"Esperado") -> 0 | D13: =COUNTIF(Registro!$AJ$10:$AJ$54,"En desarrollo") -> 0 | E13: =COUNTIF(Registro!$AJ$10:$AJ$54,"Requiere apoyo") -> 0 | F13: =SUM(C13:E13) -> 0 | G13: =IF($F13=0,"",C13/$F13) | H13: =IF($F13=0,"",D13/$F13) | I13: =IF($F13=0,"",E13/$F13)
B14: Ética, naturaleza y sociedades | C14: =COUNTIF(Registro!$AL$10:$AL$54,"Esperado") -> 0 | D14: =COUNTIF(Registro!$AL$10:$AL$54,"En desarrollo") -> 0 | E14: =COUNTIF(Registro!$AL$10:$AL$54,"Requiere apoyo") -> 0 | F14: =SUM(C14:E14) -> 0 | G14: =IF($F14=0,"",C14/$F14) | H14: =IF($F14=0,"",D14/$F14) | I14: =IF($F14=0,"",E14/$F14)
B15: De lo humano y lo comunitario | C15: =COUNTIF(Registro!$AN$10:$AN$54,"Esperado") -> 0 | D15: =COUNTIF(Registro!$AN$10:$AN$54,"En desarrollo") -> 0 | E15: =COUNTIF(Registro!$AN$10:$AN$54,"Requiere apoyo") -> 0 | F15: =SUM(C15:E15) -> 0 | G15: =IF($F15=0,"",C15/$F15) | H15: =IF($F15=0,"",D15/$F15) | I15: =IF($F15=0,"",E15/$F15)
B16: General (todos los campos) | C16: =COUNTIF(Registro!$AP$10:$AP$54,"Esperado") -> 0 | D16: =COUNTIF(Registro!$AP$10:$AP$54,"En desarrollo") -> 0 | E16: =COUNTIF(Registro!$AP$10:$AP$54,"Requiere apoyo") -> 0 | F16: =SUM(C16:E16) -> 0 | G16: =IF($F16=0,"",C16/$F16) | H16: =IF($F16=0,"",D16/$F16) | I16: =IF($F16=0,"",E16/$F16)
B18: Resultado de cada alumno
B19: N.° de lista | C19: Nombre del estudiante | D19: Puntos (de 78) | E19: Promedio (0 a 3) | F19: Nivel general | G19: Lenguajes | H19: Saberes y p. científico | I19: Ética, nat. y soc. | J19: De lo humano y lo com. | K19: Esperado | L19: En desarrollo | M19: Requiere apoyo | O19: =IFERROR(MATCH(9.99E+307,Registro!$C$10:$C$54),1) -> 1
B20: =IF(Registro!C10="","",Registro!A10) | C20: =IF(Registro!C10="","",IF(Registro!B10="","(sin nombre)",Registro!B10)) | D20: =IF(Registro!C10="","",Registro!C10) | E20: =IF(Registro!C10="","",Registro!D10) | F20: =Registro!E10 | G20: =Registro!AH10 | H20: =Registro!AJ10 | I20: =Registro!AL10 | J20: =Registro!AN10 | K20: =IF(F20="Esperado",E20,NA()) -> #N/A | L20: =IF(F20="En desarrollo",E20,NA()) -> #N/A | M20: =IF(F20="Requiere apoyo",E20,NA()) -> #N/A | N20: =IF(C20=""," ",B20&". "&C20)
B21: =IF(Registro!C11="","",Registro!A11) | C21: =IF(Registro!C11="","",IF(Registro!B11="","(sin nombre)",Registro!B11)) | D21: =IF(Registro!C11="","",Registro!C11) | E21: =IF(Registro!C11="","",Registro!D11) | F21: =Registro!E11 | G21: =Registro!AH11 | H21: =Registro!AJ11 | I21: =Registro!AL11 | J21: =Registro!AN11 | K21: =IF(F21="Esperado",E21,NA()) -> #N/A | L21: =IF(F21="En desarrollo",E21,NA()) -> #N/A | M21: =IF(F21="Requiere apoyo",E21,NA()) -> #N/A | N21: =IF(C21=""," ",B21&". "&C21)
B22: =IF(Registro!C12="","",Registro!A12) | C22: =IF(Registro!C12="","",IF(Registro!B12="","(sin nombre)",Registro!B12)) | D22: =IF(Registro!C12="","",Registro!C12) | E22: =IF(Registro!C12="","",Registro!D12) | F22: =Registro!E12 | G22: =Registro!AH12 | H22: =Registro!AJ12 | I22: =Registro!AL12 | J22: =Registro!AN12 | K22: =IF(F22="Esperado",E22,NA()) -> #N/A | L22: =IF(F22="En desarrollo",E22,NA()) -> #N/A | M22: =IF(F22="Requiere apoyo",E22,NA()) -> #N/A | N22: =IF(C22=""," ",B22&". "&C22)
B23: =IF(Registro!C13="","",Registro!A13) | C23: =IF(Registro!C13="","",IF(Registro!B13="","(sin nombre)",Registro!B13)) | D23: =IF(Registro!C13="","",Registro!C13) | E23: =IF(Registro!C13="","",Registro!D13) | F23: =Registro!E13 | G23: =Registro!AH13 | H23: =Registro!AJ13 | I23: =Registro!AL13 | J23: =Registro!AN13 | K23: =IF(F23="Esperado",E23,NA()) -> #N/A | L23: =IF(F23="En desarrollo",E23,NA()) -> #N/A | M23: =IF(F23="Requiere apoyo",E23,NA()) -> #N/A | N23: =IF(C23=""," ",B23&". "&C23)
B24: =IF(Registro!C14="","",Registro!A14) | C24: =IF(Registro!C14="","",IF(Registro!B14="","(sin nombre)",Registro!B14)) | D24: =IF(Registro!C14="","",Registro!C14) | E24: =IF(Registro!C14="","",Registro!D14) | F24: =Registro!E14 | G24: =Registro!AH14 | H24: =Registro!AJ14 | I24: =Registro!AL14 | J24: =Registro!AN14 | K24: =IF(F24="Esperado",E24,NA()) -> #N/A | L24: =IF(F24="En desarrollo",E24,NA()) -> #N/A | M24: =IF(F24="Requiere apoyo",E24,NA()) -> #N/A | N24: =IF(C24=""," ",B24&". "&C24)
B25: =IF(Registro!C15="","",Registro!A15) | C25: =IF(Registro!C15="","",IF(Registro!B15="","(sin nombre)",Registro!B15)) | D25: =IF(Registro!C15="","",Registro!C15) | E25: =IF(Registro!C15="","",Registro!D15) | F25: =Registro!E15 | G25: =Registro!AH15 | H25: =Registro!AJ15 | I25: =Registro!AL15 | J25: =Registro!AN15 | K25: =IF(F25="Esperado",E25,NA()) -> #N/A | L25: =IF(F25="En desarrollo",E25,NA()) -> #N/A | M25: =IF(F25="Requiere apoyo",E25,NA()) -> #N/A | N25: =IF(C25=""," ",B25&". "&C25)
B26: =IF(Registro!C16="","",Registro!A16) | C26: =IF(Registro!C16="","",IF(Registro!B16="","(sin nombre)",Registro!B16)) | D26: =IF(Registro!C16="","",Registro!C16) | E26: =IF(Registro!C16="","",Registro!D16) | F26: =Registro!E16 | G26: =Registro!AH16 | H26: =Registro!AJ16 | I26: =Registro!AL16 | J26: =Registro!AN16 | K26: =IF(F26="Esperado",E26,NA()) -> #N/A | L26: =IF(F26="En desarrollo",E26,NA()) -> #N/A | M26: =IF(F26="Requiere apoyo",E26,NA()) -> #N/A | N26: =IF(C26=""," ",B26&". "&C26)
B27: =IF(Registro!C17="","",Registro!A17) | C27: =IF(Registro!C17="","",IF(Registro!B17="","(sin nombre)",Registro!B17)) | D27: =IF(Registro!C17="","",Registro!C17) | E27: =IF(Registro!C17="","",Registro!D17) | F27: =Registro!E17 | G27: =Registro!AH17 | H27: =Registro!AJ17 | I27: =Registro!AL17 | J27: =Registro!AN17 | K27: =IF(F27="Esperado",E27,NA()) -> #N/A | L27: =IF(F27="En desarrollo",E27,NA()) -> #N/A | M27: =IF(F27="Requiere apoyo",E27,NA()) -> #N/A | N27: =IF(C27=""," ",B27&". "&C27)
B28: =IF(Registro!C18="","",Registro!A18) | C28: =IF(Registro!C18="","",IF(Registro!B18="","(sin nombre)",Registro!B18)) | D28: =IF(Registro!C18="","",Registro!C18) | E28: =IF(Registro!C18="","",Registro!D18) | F28: =Registro!E18 | G28: =Registro!AH18 | H28: =Registro!AJ18 | I28: =Registro!AL18 | J28: =Registro!AN18 | K28: =IF(F28="Esperado",E28,NA()) -> #N/A | L28: =IF(F28="En desarrollo",E28,NA()) -> #N/A | M28: =IF(F28="Requiere apoyo",E28,NA()) -> #N/A | N28: =IF(C28=""," ",B28&". "&C28)
B29: =IF(Registro!C19="","",Registro!A19) | C29: =IF(Registro!C19="","",IF(Registro!B19="","(sin nombre)",Registro!B19)) | D29: =IF(Registro!C19="","",Registro!C19) | E29: =IF(Registro!C19="","",Registro!D19) | F29: =Registro!E19 | G29: =Registro!AH19 | H29: =Registro!AJ19 | I29: =Registro!AL19 | J29: =Registro!AN19 | K29: =IF(F29="Esperado",E29,NA()) -> #N/A | L29: =IF(F29="En desarrollo",E29,NA()) -> #N/A | M29: =IF(F29="Requiere apoyo",E29,NA()) -> #N/A | N29: =IF(C29=""," ",B29&". "&C29)
B30: =IF(Registro!C20="","",Registro!A20) | C30: =IF(Registro!C20="","",IF(Registro!B20="","(sin nombre)",Registro!B20)) | D30: =IF(Registro!C20="","",Registro!C20) | E30: =IF(Registro!C20="","",Registro!D20) | F30: =Registro!E20 | G30: =Registro!AH20 | H30: =Registro!AJ20 | I30: =Registro!AL20 | J30: =Registro!AN20 | K30: =IF(F30="Esperado",E30,NA()) -> #N/A | L30: =IF(F30="En desarrollo",E30,NA()) -> #N/A | M30: =IF(F30="Requiere apoyo",E30,NA()) -> #N/A | N30: =IF(C30=""," ",B30&". "&C30)
B31: =IF(Registro!C21="","",Registro!A21) | C31: =IF(Registro!C21="","",IF(Registro!B21="","(sin nombre)",Registro!B21)) | D31: =IF(Registro!C21="","",Registro!C21) | E31: =IF(Registro!C21="","",Registro!D21) | F31: =Registro!E21 | G31: =Registro!AH21 | H31: =Registro!AJ21 | I31: =Registro!AL21 | J31: =Registro!AN21 | K31: =IF(F31="Esperado",E31,NA()) -> #N/A | L31: =IF(F31="En desarrollo",E31,NA()) -> #N/A | M31: =IF(F31="Requiere apoyo",E31,NA()) -> #N/A | N31: =IF(C31=""," ",B31&". "&C31)
... B64: =IF(Registro!C54="","",Registro!A54) | C64: =IF(Registro!C54="","",IF(Registro!B54="","(sin nombre)",Registro!B54)) | D64: =IF(Registro!C54="","",Registro!C54) | E64: =IF(Registro!C54="","",Registro!D54) | F64: =Registro!E54 | G64: =Registro!AH54 | H64: =Registro!AJ54 | I64: =Registro!AL54 | J64: =Registro!AN54 | K64: =IF(F64="Esperado",E64,NA()) -> #N/A | L64: =IF(F64="En desarrollo",E64,NA()) -> #N/A | M64: =IF(F64="Requiere apoyo",E64,NA()) -> #N/A | N64: =IF(C64=""," ",B64&". "&C64)
B66: Resultados por criterio de valoración
B67: Criterio de valoración | C67: EIA · consigna · inciso | D67: Campo formativo | E67: Nivel esperado (3) | F67: En desarrollo (2) | G67: Requiere apoyo (0 y 1) | H67: Alumnos evaluados
B68: Ordenación cronológica de los acontecimientos | C68: EIA 1 · C1 · A1 | D68: Saberes y pensamiento científico | E68: =COUNTIF(Registro!$F$10:$F$54,3) -> 0 | F68: =COUNTIF(Registro!$F$10:$F$54,2) -> 0 | G68: =COUNTIF(Registro!$F$10:$F$54,"<=1") -> 0 | H68: =SUM(E68:G68) -> 0
B69: Descripción clara de los acontecimientos | C69: EIA 1 · C1 · A2 | D69: Saberes y pensamiento científico | E69: =COUNTIF(Registro!$G$10:$G$54,3) -> 0 | F69: =COUNTIF(Registro!$G$10:$G$54,2) -> 0 | G69: =COUNTIF(Registro!$G$10:$G$54,"<=1") -> 0 | H69: =SUM(E69:G69) -> 0
B70: Interpretación de datos | C70: EIA 1 · C1 · B1 | D70: Saberes y pensamiento científico | E70: =COUNTIF(Registro!$H$10:$H$54,3) -> 0 | F70: =COUNTIF(Registro!$H$10:$H$54,2) -> 0 | G70: =COUNTIF(Registro!$H$10:$H$54,"<=1") -> 0 | H70: =SUM(E70:G70) -> 0
B71: Explicación de la respuesta | C71: EIA 1 · C1 · B2 | D71: Saberes y pensamiento científico | E71: =COUNTIF(Registro!$I$10:$I$54,3) -> 0 | F71: =COUNTIF(Registro!$I$10:$I$54,2) -> 0 | G71: =COUNTIF(Registro!$I$10:$I$54,"<=1") -> 0 | H71: =SUM(E71:G71) -> 0
B72: Presentación del resultado | C72: EIA 1 · C1 · B3 | D72: Saberes y pensamiento científico | E72: =COUNTIF(Registro!$J$10:$J$54,3) -> 0 | F72: =COUNTIF(Registro!$J$10:$J$54,2) -> 0 | G72: =COUNTIF(Registro!$J$10:$J$54,"<=1") -> 0 | H72: =SUM(E72:G72) -> 0
B73: Identificación de permanencias con el paso del tiempo | C73: EIA 1 · C2 · A1 | D73: Ética, naturaleza y sociedades | E73: =COUNTIF(Registro!$K$10:$K$54,3) -> 0 | F73: =COUNTIF(Registro!$K$10:$K$54,2) -> 0 | G73: =COUNTIF(Registro!$K$10:$K$54,"<=1") -> 0 | H73: =SUM(E73:G73) -> 0
B74: Identificación de cambios en el tiempo | C74: EIA 1 · C2 · A2 | D74: Ética, naturaleza y sociedades | E74: =COUNTIF(Registro!$L$10:$L$54,3) -> 0 | F74: =COUNTIF(Registro!$L$10:$L$54,2) -> 0 | G74: =COUNTIF(Registro!$L$10:$L$54,"<=1") -> 0 | H74: =SUM(E74:G74) -> 0
B75: Argumentación de los cambios con el tiempo | C75: EIA 1 · C2 · A3 | D75: Ética, naturaleza y sociedades | E75: =COUNTIF(Registro!$M$10:$M$54,3) -> 0 | F75: =COUNTIF(Registro!$M$10:$M$54,2) -> 0 | G75: =COUNTIF(Registro!$M$10:$M$54,"<=1") -> 0 | H75: =SUM(E75:G75) -> 0
B76: Organización y elementos en la estructura del croquis | C76: EIA 1 · C2 · B1 | D76: Ética, naturaleza y sociedades | E76: =COUNTIF(Registro!$N$10:$N$54,3) -> 0 | F76: =COUNTIF(Registro!$N$10:$N$54,2) -> 0 | G76: =COUNTIF(Registro!$N$10:$N$54,"<=1") -> 0 | H76: =SUM(E76:G76) -> 0
B77: Identificación de relaciones de parentesco | C77: EIA 1 · C3 · A1 | D77: De lo humano y lo comunitario | E77: =COUNTIF(Registro!$O$10:$O$54,3) -> 0 | F77: =COUNTIF(Registro!$O$10:$O$54,2) -> 0 | G77: =COUNTIF(Registro!$O$10:$O$54,"<=1") -> 0 | H77: =SUM(E77:G77) -> 0
B78: Reconocimiento de la pertenencia familiar y comunitaria | C78: EIA 1 · C3 · B1 | D78: De lo humano y lo comunitario | E78: =COUNTIF(Registro!$P$10:$P$54,3) -> 0 | F78: =COUNTIF(Registro!$P$10:$P$54,2) -> 0 | G78: =COUNTIF(Registro!$P$10:$P$54,"<=1") -> 0 | H78: =SUM(E78:G78) -> 0
B79: Descripción de la secuencia temporal | C79: EIA 1 · C4 · A1 | D79: Lenguajes | E79: =COUNTIF(Registro!$Q$10:$Q$54,3) -> 0 | F79: =COUNTIF(Registro!$Q$10:$Q$54,2) -> 0 | G79: =COUNTIF(Registro!$Q$10:$Q$54,"<=1") -> 0 | H79: =SUM(E79:G79) -> 0
B80: Descripción detallada de los sucesos | C80: EIA 1 · C4 · A2 | D80: Lenguajes | E80: =COUNTIF(Registro!$R$10:$R$54,3) -> 0 | F80: =COUNTIF(Registro!$R$10:$R$54,2) -> 0 | G80: =COUNTIF(Registro!$R$10:$R$54,"<=1") -> 0 | H80: =SUM(E80:G80) -> 0
B81: Representación de elementos visuales | C81: EIA 1 · C4 · A3 | D81: Lenguajes | E81: =COUNTIF(Registro!$S$10:$S$54,3) -> 0 | F81: =COUNTIF(Registro!$S$10:$S$54,2) -> 0 | G81: =COUNTIF(Registro!$S$10:$S$54,"<=1") -> 0 | H81: =SUM(E81:G81) -> 0
B82: Identificación del uso del agua | C82: EIA 2 · C1 · A1 | D82: Saberes y pensamiento científico | E82: =COUNTIF(Registro!$T$10:$T$54,3) -> 0 | F82: =COUNTIF(Registro!$T$10:$T$54,2) -> 0 | G82: =COUNTIF(Registro!$T$10:$T$54,"<=1") -> 0 | H82: =SUM(E82:G82) -> 0
B83: Explicación de las acciones que consumen más agua y provocan escasez | C83: EIA 2 · C1 · B1 | D83: Saberes y pensamiento científico | E83: =COUNTIF(Registro!$U$10:$U$54,3) -> 0 | F83: =COUNTIF(Registro!$U$10:$U$54,2) -> 0 | G83: =COUNTIF(Registro!$U$10:$U$54,"<=1") -> 0 | H83: =SUM(E83:G83) -> 0
B84: Propuestas para el cuidado del agua | C84: EIA 2 · C2 · A1 | D84: Ética, naturaleza y sociedades | E84: =COUNTIF(Registro!$V$10:$V$54,3) -> 0 | F84: =COUNTIF(Registro!$V$10:$V$54,2) -> 0 | G84: =COUNTIF(Registro!$V$10:$V$54,"<=1") -> 0 | H84: =SUM(E84:G84) -> 0
B85: Expresión de acciones de solidaridad | C85: EIA 2 · C3 · A1 | D85: De lo humano y lo comunitario | E85: =COUNTIF(Registro!$W$10:$W$54,3) -> 0 | F85: =COUNTIF(Registro!$W$10:$W$54,2) -> 0 | G85: =COUNTIF(Registro!$W$10:$W$54,"<=1") -> 0 | H85: =SUM(E85:G85) -> 0
B86: Identificación de valores para promover el cuidado del agua | C86: EIA 2 · C3 · B1 | D86: De lo humano y lo comunitario | E86: =COUNTIF(Registro!$X$10:$X$54,3) -> 0 | F86: =COUNTIF(Registro!$X$10:$X$54,2) -> 0 | G86: =COUNTIF(Registro!$X$10:$X$54,"<=1") -> 0 | H86: =SUM(E86:G86) -> 0
B87: Identificación de valores | C87: EIA 2 · C3 · C1 | D87: De lo humano y lo comunitario | E87: =COUNTIF(Registro!$Y$10:$Y$54,3) -> 0 | F87: =COUNTIF(Registro!$Y$10:$Y$54,2) -> 0 | G87: =COUNTIF(Registro!$Y$10:$Y$54,"<=1") -> 0 | H87: =SUM(E87:G87) -> 0
B88: Argumentación sobre los valores para el cuidado del agua | C88: EIA 2 · C3 · C2 | D88: De lo humano y lo comunitario | E88: =COUNTIF(Registro!$Z$10:$Z$54,3) -> 0 | F88: =COUNTIF(Registro!$Z$10:$Z$54,2) -> 0 | G88: =COUNTIF(Registro!$Z$10:$Z$54,"<=1") -> 0 | H88: =SUM(E88:G88) -> 0
B89: Organización de información en una tabla de datos | C89: EIA 2 · C4 · A1 | D89: Saberes y pensamiento científico | E89: =COUNTIF(Registro!$AA$10:$AA$54,3) -> 0 | F89: =COUNTIF(Registro!$AA$10:$AA$54,2) -> 0 | G89: =COUNTIF(Registro!$AA$10:$AA$54,"<=1") -> 0 | H89: =SUM(E89:G89) -> 0
B90: Interpretación de datos y explicación de la respuesta correcta | C90: EIA 2 · C4 · B1 | D90: Saberes y pensamiento científico | E90: =COUNTIF(Registro!$AB$10:$AB$54,3) -> 0 | F90: =COUNTIF(Registro!$AB$10:$AB$54,2) -> 0 | G90: =COUNTIF(Registro!$AB$10:$AB$54,"<=1") -> 0 | H90: =SUM(E90:G90) -> 0
B91: Elaboración de una secuencia narrativa | C91: EIA 2 · C5 · A1 | D91: Lenguajes | E91: =COUNTIF(Registro!$AC$10:$AC$54,3) -> 0 | F91: =COUNTIF(Registro!$AC$10:$AC$54,2) -> 0 | G91: =COUNTIF(Registro!$AC$10:$AC$54,"<=1") -> 0 | H91: =SUM(E91:G91) -> 0
B92: Cohesión y coherencia | C92: EIA 2 · C5 · A2 | D92: Lenguajes | E92: =COUNTIF(Registro!$AD$10:$AD$54,3) -> 0 | F92: =COUNTIF(Registro!$AD$10:$AD$54,2) -> 0 | G92: =COUNTIF(Registro!$AD$10:$AD$54,"<=1") -> 0 | H92: =SUM(E92:G92) -> 0
B93: Participación de personajes en la narrativa | C93: EIA 2 · C5 · A3 | D93: Lenguajes | E93: =COUNTIF(Registro!$AE$10:$AE$54,3) -> 0 | F93: =COUNTIF(Registro!$AE$10:$AE$54,2) -> 0 | G93: =COUNTIF(Registro!$AE$10:$AE$54,"<=1") -> 0 | H93: =SUM(E93:G93) -> 0

Sheet Gráfica por campo

Sheet Gráfica por alumno

Sheet Gráfica por criterio
